BEGIN:VCALENDAR
VERSION:2.0
PRODID:-//Cortland Curiosities - ECPv6.15.20//NONSGML v1.0//EN
CALSCALE:GREGORIAN
METHOD:PUBLISH
X-ORIGINAL-URL:https://cortlandcuriosities.com
X-WR-CALDESC:Events for Cortland Curiosities
REFRESH-INTERVAL;VALUE=DURATION:PT1H
X-Robots-Tag:noindex
X-PUBLISHED-TTL:PT1H
BEGIN:VTIMEZONE
TZID:America/New_York
BEGIN:DAYLIGHT
TZOFFSETFROM:-0500
TZOFFSETTO:-0400
TZNAME:EDT
DTSTART:20220313T070000
END:DAYLIGHT
BEGIN:STANDARD
TZOFFSETFROM:-0400
TZOFFSETTO:-0500
TZNAME:EST
DTSTART:20221106T060000
END:STANDARD
BEGIN:DAYLIGHT
TZOFFSETFROM:-0500
TZOFFSETTO:-0400
TZNAME:EDT
DTSTART:20230312T070000
END:DAYLIGHT
BEGIN:STANDARD
TZOFFSETFROM:-0400
TZOFFSETTO:-0500
TZNAME:EST
DTSTART:20231105T060000
END:STANDARD
BEGIN:DAYLIGHT
TZOFFSETFROM:-0500
TZOFFSETTO:-0400
TZNAME:EDT
DTSTART:20240310T070000
END:DAYLIGHT
BEGIN:STANDARD
TZOFFSETFROM:-0400
TZOFFSETTO:-0500
TZNAME:EST
DTSTART:20241103T060000
END:STANDARD
BEGIN:DAYLIGHT
TZOFFSETFROM:-0500
TZOFFSETTO:-0400
TZNAME:EDT
DTSTART:20250309T070000
END:DAYLIGHT
BEGIN:STANDARD
TZOFFSETFROM:-0400
TZOFFSETTO:-0500
TZNAME:EST
DTSTART:20251102T060000
END:STANDARD
BEGIN:DAYLIGHT
TZOFFSETFROM:-0500
TZOFFSETTO:-0400
TZNAME:EDT
DTSTART:20260308T070000
END:DAYLIGHT
BEGIN:STANDARD
TZOFFSETFROM:-0400
TZOFFSETTO:-0500
TZNAME:EST
DTSTART:20261101T060000
END:STANDARD
BEGIN:DAYLIGHT
TZOFFSETFROM:-0500
TZOFFSETTO:-0400
TZNAME:EDT
DTSTART:20270314T070000
END:DAYLIGHT
BEGIN:STANDARD
TZOFFSETFROM:-0400
TZOFFSETTO:-0500
TZNAME:EST
DTSTART:20271107T060000
END:STANDARD
END:VTIMEZONE
BEGIN:VEVENT
DTSTART;TZID=America/New_York:20260419T190000
DTEND;TZID=America/New_York:20260419T210000
DTSTAMP:20260420T051115
CREATED:20260316T172001Z
LAST-MODIFIED:20260316T172058Z
UID:1279-1776625200-1776632400@cortlandcuriosities.com
SUMMARY:The End of the World Never Minding Show
DESCRIPTION:It is time for End of the World Never Minding! Join Bread & Puppet Theater for an urgently-needed new puppet show featuring our upside-down situation\, a revolt orchestra\, screaming choirs\, and a reckoning with the catastrophe of logic.\n\nOf The End of the World Never Minding Show\, director Peter Schumann tells us that\, “The sitting mind realises the predicament of the rats\, assigned to spread the plague which opens the gates of darkness as fears chase the populations across the face of the earth. Humanity’s humdrum is now outrageous and no longer composed of beloved details. The rats in charge of spreading the plague are ordered to repurpose human freedom and democracy into guns\, bombs\, and starvation. Our own futuristic Not-Yet is impatient and unready. We must take our cardboard provocations into the revolting streets of life\, with help from our paper-maché divinities\, to succeed and succeed.”\n\n\n\n\nAfter the show Bread & Puppet will serve its famous sourdough rye bread with aioli\, and Bread & Puppet’s “Cheap Art” – books\, posters\, postcards\, pamphlets and banners from the Bread & Puppet Press – will be for sale.
URL:https://cortlandcuriosities.com/event/the-end-of-the-world-never-minding-show/
LOCATION:Center for the Arts of Homer\, 72 S. Main St\, Homer\, NY\, United States
CATEGORIES:Comedy,Theater
ATTACH;FMTTYPE=image/jpeg:https://cortlandcuriosities.com/wp-content/uploads/2023/06/center-for-the-arts.jpeg
END:VEVENT
BEGIN:VEVENT
DTSTART;VALUE=DATE:20260320
DTEND;VALUE=DATE:20260322
DTSTAMP:20260420T051115
CREATED:20260227T193912Z
LAST-MODIFIED:20260227T193912Z
UID:1264-1773964800-1774137599@cortlandcuriosities.com
SUMMARY:Montana Smith and the Curse of the Golden Crocodile
DESCRIPTION:💀🐊 Murder\, Scandal & a Cursed Crocodile in Cortland County… \nThe legend has arrived and so has the drama. \nMontana Smith and the Curse of the Golden Crocodile slinks into town for a salacious Murder Mystery Dinner Theatre experience that promises mystery\, mayhem\, and a few delicious secrets on the side. \n📅 Friday\, March 20 & Saturday\, March 21🕵️ Doors & appetizers at 6:30PM🍽️ Buffet dinner served at 8:00PM🎭 Starring the Acme Mystery Company🥘 Buffet by M&D Deli \nFresh from the Amazon\, adventurer Montana Smith has “liberated” the legendary Golden Crocodile and plans to unveil it at the Municipal Museum of Natural History. But rumors of a curse are spreading fast. Staff are whispering. Guests are side-eyeing. And someone may not survive the evening. \nIs it superstition… or something far more sinister? \nGuests will enjoy an interactive murder mystery experience in Cortland County\, complete with a buffet-style dinner and plenty of suspicious characters to interrogate. Dress sharp. Trust no one. And maybe don’t stand too close to the crocodile.
URL:https://cortlandcuriosities.com/event/montana-smith-and-the-curse-of-the-golden-crocodile/
LOCATION:Cortland Repertory Theater\, 24 Port Watson St.\, Cortland\, NY\, United States
CATEGORIES:Comedy,Theater
ATTACH;FMTTYPE=image/jpeg:https://cortlandcuriosities.com/wp-content/uploads/2023/05/Murder-on-the-Orient-Express-CRT.jpeg
END:VEVENT
BEGIN:VEVENT
DTSTART;TZID=America/New_York:20251114T080000
DTEND;TZID=America/New_York:20251114T170000
DTSTAMP:20260420T051115
CREATED:20251014T142205Z
LAST-MODIFIED:20251014T150306Z
UID:1237-1763107200-1763139600@cortlandcuriosities.com
SUMMARY:Death at the Wickwire Speakeasy
DESCRIPTION:Step back in time for an evening of intrigue at “Death at the Wickwire Speakeasy”\, a thrilling Murder Mystery experience taking place Friday\, November 14\, from 7:00 to 10:00 p.m at the 1890 House. \nGuests will enjoy a lavish buffet featuring Flapper Fare and Libations while uncovering clues and mingling with fellow detectives in this 1920s-themed whodunit. Be sure to remember the secret password (“Chester sent me!” ) to gain entry to the speakeasy. \nAttendance is limited to 60 guests\, and tickets are $75 per person.
URL:https://cortlandcuriosities.com/event/death-at-the-wickwire-speakeasy/
LOCATION:1890 House Museum\, 37 Tompkins Street\, Cortland\, NY\, 13045\, United States
CATEGORIES:Comedy,History,Theater
ATTACH;FMTTYPE=image/jpeg:https://cortlandcuriosities.com/wp-content/uploads/2022/10/1890-House-Museum-Amityphotos-14-scaled.jpg
END:VEVENT
BEGIN:VEVENT
DTSTART;TZID=America/New_York:20250816T193000
DTEND;TZID=America/New_York:20250816T210000
DTSTAMP:20260420T051115
CREATED:20250731T163007Z
LAST-MODIFIED:20250731T163007Z
UID:1162-1755372600-1755378000@cortlandcuriosities.com
SUMMARY:Tales of the Paranormal
DESCRIPTION:Something otherworldly is coming to Cortland… and it brought friends. \nJoin comedians and seasoned paranormal investigators Karen Rontowski and Ryan Singer for a night that’s equal parts spine-tingling and side-splitting. Tales of the Paranormal isn’t your average ghost story session—these two have been all over the world chasing the strange\, the unexplained\, and the downright chilling… and something has definitely been chasing them back. \nExpect tales of spirits\, cryptids\, ghostly encounters\, and cosmic oddities—told with wit\, warmth\, and just enough weird to leave your hair standing on end. \n🎟️ Tickets are $12 on Eventbrite or $15 at the door.🔗 Visit akegallery.com for details.
URL:https://cortlandcuriosities.com/event/tales-of-the-paranormal/
LOCATION:Ake Gallery\, 165 S. Main street\, Cortland\, 13045\, United States
CATEGORIES:Comedy,Paranormal,Psychic
ATTACH;FMTTYPE=image/jpeg:https://cortlandcuriosities.com/wp-content/uploads/2024/03/ake-karen-e1724687125939.jpg
END:VEVENT
BEGIN:VEVENT
DTSTART;TZID=America/New_York:20250523T193000
DTEND;TZID=America/New_York:20250523T210000
DTSTAMP:20260420T051115
CREATED:20250502T163032Z
LAST-MODIFIED:20250502T163032Z
UID:1121-1748028600-1748034000@cortlandcuriosities.com
SUMMARY:Psychic Standup
DESCRIPTION:Psychic Standup is a fast paced\, fun mix of Karen Rontowski’s two talents\, reading tarot cards and standup comedy. This one of a kind show will keep you laughing and amazed at how she weaves these two things together seamlessly. Believer or non-believer\, this show holds something for everyone! The future never looked so funny! \nKaren has appeared on The Late Show with David Letterman\, Sirius Satellite Radio\, Comics Unleashed\, Comedy.com\, Live at Gotham\, Comedy Central and Mysteries of the Unexplained. You can see her Dry Bar Comedy Special called Ridiculous Me has received over 21 million hits and her second\, War and Instant Pudding isn’t far behind. She is also a Paranormal Panelist at the Los Angeles ComicCon. After performing and hosting at paranormal conventions all over the world she created the hilariously odd web series Paranormal Karen where she has fun reporting from haunted and obscure places everywhere. She also has an in depth podcast by the same name. Tickets $10 in advance\, $15 at door.
URL:https://cortlandcuriosities.com/event/psychic-standup-2/
LOCATION:Ake Gallery\, 165 S. Main street\, Cortland\, 13045\, United States
CATEGORIES:Comedy,Psychic
ATTACH;FMTTYPE=image/jpeg:https://cortlandcuriosities.com/wp-content/uploads/2024/08/20230923_DuckRed-Oct.-Film-Fest-21-scaled.jpg
END:VEVENT
BEGIN:VEVENT
DTSTART;TZID=America/New_York:20250322T080000
DTEND;TZID=America/New_York:20250322T170000
DTSTAMP:20260420T051115
CREATED:20250206T165835Z
LAST-MODIFIED:20250206T165835Z
UID:1097-1742630400-1742662800@cortlandcuriosities.com
SUMMARY:Murder Mystery Dinner
DESCRIPTION:High on a hill died a lonely goatherd and some people around the Abbey are beginning to get the idea that sweet little Maria just might be a budding serial killer. Is she now at sixteen\, going on seventeen? What exactly are her favorite things? Mother Abbess and her new assistant\, Sister Adolph\, are calling in all nuns and townsfolk to decide what to do. Even the pompous Captain Von Trampp and his bratty children will be there. Don’t be late. You don’t want Sister Adolph shaking her carrot at you! \nMenu\nSliced Top Round Beef\nBaked Italian Chicken\nRigatoni and sauce\nTuscan vegetables\nRice Pilaf\nmixed greens salad\nrolls \nTickets are $65 – includes meal\, dessert\, coffee and the show! Beer/wine cash bar
URL:https://cortlandcuriosities.com/event/murder-mystery-dinner-4/
LOCATION:Cortland Repertory Theater\, 24 Port Watson St.\, Cortland\, NY\, United States
CATEGORIES:Comedy,Theater
ATTACH;FMTTYPE=image/jpeg:https://cortlandcuriosities.com/wp-content/uploads/2024/01/IMG_7890-2.jpg
END:VEVENT
BEGIN:VEVENT
DTSTART;TZID=America/New_York:20250321T183000
DTEND;TZID=America/New_York:20250321T213000
DTSTAMP:20260420T051115
CREATED:20250206T165623Z
LAST-MODIFIED:20250206T165645Z
UID:1096-1742581800-1742592600@cortlandcuriosities.com
SUMMARY:Murder Mystery Dinner
DESCRIPTION:High on a hill died a lonely goatherd and some people around the Abbey are beginning to get the idea that sweet little Maria just might be a budding serial killer. Is she now at sixteen\, going on seventeen? What exactly are her favorite things? Mother Abbess and her new assistant\, Sister Adolph\, are calling in all nuns and townsfolk to decide what to do. Even the pompous Captain Von Trampp and his bratty children will be there. Don’t be late. You don’t want Sister Adolph shaking her carrot at you! \nMenu\nSliced Top Round Beef\nBaked Italian Chicken\nRigatoni and sauce\nTuscan vegetables\nRice Pilaf\nmixed greens salad\nrolls \nTickets are $65 – includes meal\, dessert\, coffee and the show! Beer/wine cash bar
URL:https://cortlandcuriosities.com/event/murder-mystery-dinner-3/
LOCATION:Cortland Repertory Theater\, 24 Port Watson St.\, Cortland\, NY\, United States
CATEGORIES:Comedy,Theater
ATTACH;FMTTYPE=image/jpeg:https://cortlandcuriosities.com/wp-content/uploads/2024/01/IMG_7890-2.jpg
END:VEVENT
BEGIN:VEVENT
DTSTART;TZID=America/New_York:20250214T180000
DTEND;TZID=America/New_York:20250214T200000
DTSTAMP:20260420T051115
CREATED:20250206T162336Z
LAST-MODIFIED:20250206T162336Z
UID:1089-1739556000-1739563200@cortlandcuriosities.com
SUMMARY:Story Slam
DESCRIPTION:February 14\, head to the AKE Gallery for a spooktacular Valentine’s story slam that will make you cackle\, give you goosebumps\, and warm your heart! \nSharing torrid tales in the theme of “Firsts”\, storytellers are ready to weave enchanting narratives while you sip on delicious brews and wines from Homer Hops. Who knows? You might just find your next love story!
URL:https://cortlandcuriosities.com/event/story-slam/
LOCATION:Ake Gallery\, 165 S. Main street\, Cortland\, 13045\, United States
CATEGORIES:Art,Comedy,Theater
ATTACH;FMTTYPE=image/jpeg:https://cortlandcuriosities.com/wp-content/uploads/2023/08/Cincinnatus-Area-Heritage-Society-2.jpg
END:VEVENT
BEGIN:VEVENT
DTSTART;TZID=America/New_York:20241102T190000
DTEND;TZID=America/New_York:20241102T210000
DTSTAMP:20260420T051115
CREATED:20241015T155236Z
LAST-MODIFIED:20241015T155236Z
UID:1076-1730574000-1730581200@cortlandcuriosities.com
SUMMARY:Psychic Comedian Karen Rontowski
DESCRIPTION:Cortland County’s favorite psychic comedian\, Karen Rontowski\, is back at Ake Gallery and she is predicting a lot of laughs in your future!
URL:https://cortlandcuriosities.com/event/psychic-comedian-karen-rontowski-2/
LOCATION:Ake Gallery\, 165 S. Main street\, Cortland\, 13045\, United States
CATEGORIES:Comedy,Psychic
ATTACH;FMTTYPE=image/png:https://cortlandcuriosities.com/wp-content/uploads/2023/01/tarot-cards.png
END:VEVENT
BEGIN:VEVENT
DTSTART;TZID=America/New_York:20241031T200000
DTEND;TZID=America/New_York:20241031T220000
DTSTAMP:20260420T051115
CREATED:20240828T182537Z
LAST-MODIFIED:20240828T182537Z
UID:1059-1730404800-1730412000@cortlandcuriosities.com
SUMMARY:Rocky Horror Picture Show
DESCRIPTION:“Don’t just dream it…be it!” \nDon your costume (not just Rocky Horror\, but any costume) and get ready to do the time warp again! Don’t miss this live production of the cult classic. This show will be seated general admission- first come\, first served. A beer/wine bar will be open for 21+ w/ ID
URL:https://cortlandcuriosities.com/event/rocky-horror-picture-show/
LOCATION:Center for the Arts of Homer\, 72 S. Main St\, Homer\, NY\, United States
CATEGORIES:Comedy,Film,Halloween
ATTACH;FMTTYPE=image/jpeg:https://cortlandcuriosities.com/wp-content/uploads/2024/08/rocky.jpg
END:VEVENT
BEGIN:VEVENT
DTSTART;TZID=America/New_York:20241005T190000
DTEND;TZID=America/New_York:20241005T220000
DTSTAMP:20260420T051115
CREATED:20240821T143948Z
LAST-MODIFIED:20240821T143948Z
UID:1043-1728154800-1728165600@cortlandcuriosities.com
SUMMARY:Glamour\, Glitz\, Grit
DESCRIPTION:A fantastical Look at the History of American Burlesque. Every shimmy and shake will reveal another chapter\, from the scandalous Victorian origins to the over-the-top Neo-Burlesque we see today. At the heart of our dazzling spectacle is the incomparable Michelle L’Amour\, who has been featured on Americas Got Talent\, MTV\, Showtime and has captivated audiences worldwide with her unparalleled allure and wit. Prepare to be enthralled\, entertained\, and enchanted as we celebrate the timeless art of burlesque in all its glamorous\, glitzy\, and gritty glory. \nSHOW IS 18+
URL:https://cortlandcuriosities.com/event/glamour-glitz-grit/
LOCATION:Center for the Arts of Homer\, 72 S. Main St\, Homer\, NY\, United States
CATEGORIES:Art,Comedy,History,Music
ATTACH;FMTTYPE=image/jpeg:https://cortlandcuriosities.com/wp-content/uploads/2024/08/Eva-Tanguary.jpg
ORGANIZER;CN="Bees Knees Burlesque":MAILTO:beeskneesbabes@gmail.com
END:VEVENT
BEGIN:VEVENT
DTSTART;VALUE=DATE:20240928
DTEND;VALUE=DATE:20240929
DTSTAMP:20260420T051115
CREATED:20240820T144210Z
LAST-MODIFIED:20240820T144210Z
UID:1042-1727481600-1727567999@cortlandcuriosities.com
SUMMARY:The Second Annual Duck and Red Octopus Short Funny Animation Festival 
DESCRIPTION:On Sept. 27 and 28\, The Second Annual Duck and Red Octopus Short Funny Animation Festival will take place in Cortland\, New York. \nLast year’s festival was a huge success. The Celebrity Judges entertained and educated the sold-out crowds and talented filmmakers from around the world. The festival’s host – the world-renowned Ake Gallery – was filled with art from celebrated animators Peter Hannan (Creator of Nickelodeon’s “Catdog”)\, music from composers Martin Olson (from Disney’s Phineas and Ferb and Cartoon Network’s Adventure Time)\, and a sold-out performance from comedian and filmmaker Bobcat Goldthwait. \nThis year the Short Funny Animation Festival will be bigger and better with an in-person appearance from Spongebob himself\, Tom Kenny\, a special concert\, and even more impressive celebrity judges. \nThe sequel to the Duck and Red Octopus Short and Funny Animation Festival is going to be even more spectacular than the original! \nStay tuned for our schedule of workshops\, guest speakers\, film premieres\, and comedy and musical performers.
URL:https://cortlandcuriosities.com/event/the-second-annual-duck-and-red-octopus-short-funny-animation-festival-2/
LOCATION:Ake Gallery\, 165 S. Main street\, Cortland\, 13045\, United States
CATEGORIES:Art,Comedy,Festival,Film
ATTACH;FMTTYPE=image/jpeg:https://cortlandcuriosities.com/wp-content/uploads/2024/08/20230923_DuckRed-Oct.-Film-Fest-21-scaled.jpg
END:VEVENT
BEGIN:VEVENT
DTSTART;TZID=America/New_York:20240927T080000
DTEND;TZID=America/New_York:20240927T170000
DTSTAMP:20260420T051115
CREATED:20240820T144044Z
LAST-MODIFIED:20240820T144044Z
UID:1040-1727424000-1727456400@cortlandcuriosities.com
SUMMARY:The Second Annual Duck and Red Octopus Short Funny Animation Festival
DESCRIPTION:On Sept. 27 and 28\, The Second Annual Duck and Red Octopus Short Funny Animation Festival will take place in Cortland\, New York. \nLast year’s festival was a huge success. The Celebrity Judges entertained and educated the sold-out crowds and talented filmmakers from around the world. The festival’s host – the world-renowned Ake Gallery – was filled with art from celebrated animators Peter Hannan (Creator of Nickelodeon’s “Catdog”)\, music from composers Martin Olson (from Disney’s Phineas and Ferb and Cartoon Network’s Adventure Time)\, and a sold-out performance from comedian and filmmaker Bobcat Goldthwait. \nThis year the Short Funny Animation Festival will be bigger and better with an in-person appearance from Spongebob himself\, Tom Kenny\, a special concert\, and even more impressive celebrity judges. \nThe sequel to the Duck and Red Octopus Short and Funny Animation Festival is going to be even more spectacular than the original! \nStay tuned for our schedule of workshops\, guest speakers\, film premieres\, and comedy and musical performers.
URL:https://cortlandcuriosities.com/event/the-second-annual-duck-and-red-octopus-short-funny-animation-festival/
LOCATION:Ake Gallery\, 165 S. Main street\, Cortland\, 13045\, United States
CATEGORIES:Art,Comedy,Festival,Film
ATTACH;FMTTYPE=image/jpeg:https://cortlandcuriosities.com/wp-content/uploads/2024/08/20230923_DuckRed-Oct.-Film-Fest-21-scaled.jpg
END:VEVENT
BEGIN:VEVENT
DTSTART;TZID=America/New_York:20240926T180000
DTEND;TZID=America/New_York:20240926T210000
DTSTAMP:20260420T051115
CREATED:20240826T154610Z
LAST-MODIFIED:20240826T154610Z
UID:1050-1727373600-1727384400@cortlandcuriosities.com
SUMMARY:Homebrewed Comedy: Psychic Comedian
DESCRIPTION:The laughter is coming to the Skaneateles Lake when Homebrewed Comedy hits the stage at The Glen Haven Hotel in Homer on Thursday\, Sept. 26. Karen Rontowski is headlining the show and Alex Kaufman is joining host Mike Peters.\nAbout the comedians:\nMike Peters\, a Binghamton comedian\, specializes in self-deprecating\, observational humor. A contributor for Funny or Die\, Peters is the founder of Homebrewed Comedy. He hosts at the Syracuse Funny Bone and Wise Crackers in Wilkes-Barre\, Pa.\, won the Utica Brews Laugh Contest and Uptown Roast Battle and opened for Super Troopers’ Rabbit\, Erik Stolhanske and Gilbert Gottfried. Peters produces shows all over New York and hosts his weekly podcasts\, On the Mic with Mike Peters and It’s About Time: A Sopranos Watch Podcast.\nAlex Kaufman is a standup comedian currently living in Bozeman\, Mont. After contemplating the heat death of the universe while studying for a physics PhD\, he realized telling jokes was more fun than solving real problems. Now he can be found performing across the Northwest. Alex has hosted at Spokane Comedy club\, is a regular feature at Last Best Comedy and participated in the Loons on the Lake and Mutiny Radio Comedy Festivals.\nKaren Rontoswki’s stand-up showcases endearing\, self-effacing and intelligent characters that catch you by surprise every time. She uniquely blends comedy with her experience as a Paranormal Investigator\, Tarot and reiki master. Rontowski has appeared on The Late Show with David Letterman\, Sirius Satellite Radio\, Comics Unleashed\, Comedy.com\, Live at Gotham\, Comedy Central and Mysteries of the Unexplained. You can see her Her Dry Bar Comedy special called Ridiculous Me on VidAngel.com\, where it’s receiver more than 20 million views. Her second special\, War and Instant Pudding\, came out in 2022.
URL:https://cortlandcuriosities.com/event/homebrewed-comedy-psychic-comedian/
LOCATION:The Glen Haven\, 7434 Fair Haven Road\, Homer\, NY\, 13077\, United States
CATEGORIES:Comedy,Paranormal,Psychic
ATTACH;FMTTYPE=image/jpeg:https://cortlandcuriosities.com/wp-content/uploads/2024/03/ake-karen-e1724687125939.jpg
END:VEVENT
BEGIN:VEVENT
DTSTART;TZID=America/New_York:20240926T080000
DTEND;TZID=America/New_York:20240926T170000
DTSTAMP:20260420T051115
CREATED:20240826T155826Z
LAST-MODIFIED:20240826T155826Z
UID:1051-1727337600-1727370000@cortlandcuriosities.com
SUMMARY:Midget Wrestling Warriors
DESCRIPTION:Central New York are you ready for another invasion of the Midget Wrestling Warriors!? Everyone at the Midget Wrestling Warriors are ready and some want revenge! This show is taking place at the McGraw Box Brewing Company and wrestling fans can expect to see a star studded lineup! At this special event\, you will see the Midget Wrestling Warriors World Championship and the Midget Wrestling Warriors Women’s Championship titles defended! You will also see Short Sleeve Sampson\, Zoey Skye\, Demus\, Potro Romano\, The Canadian Bad Guy Bruce Rutter\, Rob the Giant\, Reyna Marina\, and so much more!!!
URL:https://cortlandcuriosities.com/event/midget-wrestling-warriors/
LOCATION:McGraw Box Brewing\, 1 Spring St.\, McGraw\, 13101\, United States
CATEGORIES:Comedy
ATTACH;FMTTYPE=image/jpeg:https://cortlandcuriosities.com/wp-content/uploads/2023/11/Francis-Flynn-aka-General-Mite-and-his-wife-Millie-with-his-father-c1888.jpeg
END:VEVENT
BEGIN:VEVENT
DTSTART;TZID=America/New_York:20240504T193000
DTEND;TZID=America/New_York:20240504T223000
DTSTAMP:20260420T051115
CREATED:20240215T153313Z
LAST-MODIFIED:20240215T155046Z
UID:968-1714851000-1714861800@cortlandcuriosities.com
SUMMARY:The Cursed Circus Drag Show at CRT
DESCRIPTION:The Cursed Circus – A Side Show So Good It’s Scary! (A GoJo Production)\nStep right up! The circus is coming to Cortland! It is the greatest show on earth but\, um … this circus is cursed. Experience a carnival of curiosities like no other. A snake woman? Bed of nails? Human blockhead? Quite so! There’s even a killer clown (that’s where the curse part comes in). Don’t worry; you will be mostly safe and thoroughly entertained! The ringmaster will do her best to minimize the carnage. Either way\, the show must go on!\n18 and over because this sideshow is for the grown! All tickets: $25.00
URL:https://cortlandcuriosities.com/event/the-cursed-circus-drag-show-at-crt/
LOCATION:Cortland Repertory Theater\, 24 Port Watson St.\, Cortland\, NY\, United States
CATEGORIES:Comedy,Music,Theatre
ATTACH;FMTTYPE=image/jpeg:https://cortlandcuriosities.com/wp-content/uploads/2023/08/sig-performers.jpg
END:VEVENT
BEGIN:VEVENT
DTSTART;TZID=America/New_York:20230708T193000
DTEND;TZID=America/New_York:20230708T220000
DTSTAMP:20260420T051115
CREATED:20230705T173415Z
LAST-MODIFIED:20230705T173415Z
UID:752-1688844600-1688853600@cortlandcuriosities.com
SUMMARY:Karen Rontowski’s Psychic Standup
DESCRIPTION:Psychic Standup is a fast-paced\, fun mix of Karen Rontowski’s two talents\, reading tarot cards and standup comedy.  This one-of-a-kind show will keep you laughing and amazed at how she weaves these two things together seamlessly.  Believer or non-believer\, this show holds something for everyone! The future never looked so funny! \nKaren has appeared on The Late Show with David Letterman\, Sirius Satellite Radio\, Comics Unleashed\, Comedy.com\, Live at Gotham\, Comedy Central and Mysteries of the Unexplained. You can see her Dry Bar Comedy Special called Ridiculous Me has received over 21 million hits and her second\, War and Instant Pudding isn’t far behind. She is also a Paranormal Panelist at the Los Angeles ComicCon. \nAfter performing and hosting at paranormal conventions all over the world she created the hilariously odd web series Paranormal Karen where she has fun reporting from haunted and obscure places everywhere.  She also has an in depth podcast by the same name. \nTickets are $10. Doors open at 6:30
URL:https://cortlandcuriosities.com/event/karen-rontowskis-psychic-standup/
LOCATION:Ake Gallery\, 165 S. Main street\, Cortland\, 13045\, United States
CATEGORIES:Comedy
END:VEVENT
END:VCALENDAR