BEGIN:VCALENDAR
VERSION:2.0
PRODID:-//Cortland Curiosities - ECPv6.15.20//NONSGML v1.0//EN
CALSCALE:GREGORIAN
METHOD:PUBLISH
X-WR-CALNAME:Cortland Curiosities
X-ORIGINAL-URL:https://cortlandcuriosities.com
X-WR-CALDESC:Events for Cortland Curiosities
REFRESH-INTERVAL;VALUE=DURATION:PT1H
X-Robots-Tag:noindex
X-PUBLISHED-TTL:PT1H
BEGIN:VTIMEZONE
TZID:America/New_York
BEGIN:DAYLIGHT
TZOFFSETFROM:-0500
TZOFFSETTO:-0400
TZNAME:EDT
DTSTART:20250309T070000
END:DAYLIGHT
BEGIN:STANDARD
TZOFFSETFROM:-0400
TZOFFSETTO:-0500
TZNAME:EST
DTSTART:20251102T060000
END:STANDARD
BEGIN:DAYLIGHT
TZOFFSETFROM:-0500
TZOFFSETTO:-0400
TZNAME:EDT
DTSTART:20260308T070000
END:DAYLIGHT
BEGIN:STANDARD
TZOFFSETFROM:-0400
TZOFFSETTO:-0500
TZNAME:EST
DTSTART:20261101T060000
END:STANDARD
BEGIN:DAYLIGHT
TZOFFSETFROM:-0500
TZOFFSETTO:-0400
TZNAME:EDT
DTSTART:20270314T070000
END:DAYLIGHT
BEGIN:STANDARD
TZOFFSETFROM:-0400
TZOFFSETTO:-0500
TZNAME:EST
DTSTART:20271107T060000
END:STANDARD
END:VTIMEZONE
BEGIN:VEVENT
DTSTART;TZID=America/New_York:20260607T120000
DTEND;TZID=America/New_York:20260607T170000
DTSTAMP:20260423T085806
CREATED:20260318T142302Z
LAST-MODIFIED:20260318T142418Z
UID:1290-1780833600-1780851600@cortlandcuriosities.com
SUMMARY:1890 House Ice Cream Social
DESCRIPTION:Please join us for our 2026 Ice Cream Social!\nEarly in our history\, the 1890 House held an annual Ice Cream Social\, and last year for our 50th Anniversary we decided to bring that fun tradition back to the community. We are continuing the tradition in 2026\, and everyone is invited! Please visit us in our carriage house from 12:00pm (noon) to 4:00pm on Sunday\, June 7th\, and enjoy ice cream\, strawberry shortcake\, and vendors\, plus yard games\, and crafts for children. \nBeginning at 1:00pm\, the JazzHappensBand will be playing traditional Dixieland Jazz music for your entertainment. \nCost is $5.00 per person\, payable on the day of the event\, at the door. \nAre you interested in being a volunteer\, or want to have a craft booth or food truck there? If so\, please contact us at info@the1890house.org.
URL:https://cortlandcuriosities.com/event/1890-house-ice-cream-social/
LOCATION:1890 House Museum\, 37 Tompkins Street\, Cortland\, NY\, 13045\, United States
CATEGORIES:Festival,History,Shopping
ATTACH;FMTTYPE=image/jpeg:https://cortlandcuriosities.com/wp-content/uploads/2022/10/1890-House-Museum-Amityphotos-78-scaled.jpg
END:VEVENT
END:VCALENDAR